BEGIN:VCALENDAR
VERSION:2.0
PRODID:-//Guiding Exceptional Parents - ECPv6.15.17//NONSGML v1.0//EN
CALSCALE:GREGORIAN
METHOD:PUBLISH
X-WR-CALNAME:Guiding Exceptional Parents
X-ORIGINAL-URL:https://guidingexceptionalparents.com
X-WR-CALDESC:Events for Guiding Exceptional Parents
REFRESH-INTERVAL;VALUE=DURATION:PT1H
X-Robots-Tag:noindex
X-PUBLISHED-TTL:PT1H
BEGIN:VTIMEZONE
TZID:UTC
BEGIN:STANDARD
TZOFFSETFROM:+0000
TZOFFSETTO:+0000
TZNAME:UTC
DTSTART:20180101T000000
END:STANDARD
END:VTIMEZONE
BEGIN:VEVENT
DTSTART;VALUE=DATE:20191104
DTEND;VALUE=DATE:20191105
DTSTAMP:20260424T134517
CREATED:20191022T124536Z
LAST-MODIFIED:20191022T124536Z
UID:3308-1572825600-1572911999@guidingexceptionalparents.com
SUMMARY:Parenting Autism Summit
DESCRIPTION:We’re bringing together 28 of the world’s autism and parenting experts to share the most effective symptom management and parenting strategies for kids with less-obvious autism (or Asperger’s) and their parents. \nThey’ll share insights on the autistic brain and experience\, the impact of sensory struggles\, behavior\, emotions\, and regulation\, social challenges\, life as a teen or adult with autism\, empowering your child for success\, and so\, so much more. \nIf you want to improve life for your child with autism\, and improve life for yourself as a parent of a child with autism\, this is an event you can’t afford to miss. \nGet more information and register for FREE here.
URL:https://guidingexceptionalparents.com/event/parenting-autism-summit/
CATEGORIES:Online Events
ATTACH;FMTTYPE=image/png:https://guidingexceptionalparents.com/wp-content/uploads/2019/10/1.png
END:VEVENT
END:VCALENDAR